BEGIN:VCALENDAR
VERSION:2.0
PRODID:spatie/icalendar-generator
DESCRIPTION:Events from Jonesville District Library
X-WR-CALDESC:Events from Jonesville District Library
REFRESH-INTERVAL;VALUE=DURATION:PT1440M
X-PUBLISHED-TTL:PT1440M
BEGIN:VTIMEZONE
TZID:America/Detroit
BEGIN:STANDARD
DTSTART:20251102T020000Z
TZOFFSETFROM:-0400
TZOFFSETTO:-0500
END:STANDARD
BEGIN:DAYLIGHT
DTSTART:20260308T020000Z
TZOFFSETFROM:-0500
TZOFFSETTO:-0400
END:DAYLIGHT
END:VTIMEZONE
BEGIN:VTIMEZONE
TZID:UTC
BEGIN:STANDARD
DTSTART:20250725T090409Z
TZOFFSETFROM:+0000
TZOFFSETTO:+0000
END:STANDARD
END:VTIMEZONE
BEGIN:VEVENT
UID:251-93
DTSTAMP:20260421T090409Z
SUMMARY:LEGO Build
LOCATION:Jonesville District Library 310 Church St.  Jonesville MI 49250
ORGANIZER;CN=Laura Orlowski:MAILTO:info@jonesvilledistrictlibrary.org
DTSTART;TZID=America/Detroit:20260410T153000
DTEND;TZID=America/Detroit:20260410T173000
X-ALT-DESC;FMTTYPE=TEXT/HTML:Join us for an afternoon of Freestyle LEGO bui
 lding.  All LEGO and DUPLO blocks are provided for this shared program. A
 ll ages are welcome to build with us.  Note: children under 8 years of ag
 e must have an adult present.
CATEGORIES:General
URL;VALUE=URI:https://jonesvilledistrictlibrary.org/mc-events/lego-build-2/
METHOD:PUBLISH
END:VEVENT
END:VCALENDAR