BEGIN:VCALENDAR
VERSION:2.0
PRODID:spatie/icalendar-generator
DESCRIPTION:Events from Jonesville District Library
X-WR-CALDESC:Events from Jonesville District Library
REFRESH-INTERVAL;VALUE=DURATION:PT1440M
X-PUBLISHED-TTL:PT1440M
BEGIN:VTIMEZONE
TZID:America/Detroit
BEGIN:DAYLIGHT
DTSTART:20250309T020000Z
TZOFFSETFROM:-0500
TZOFFSETTO:-0400
END:DAYLIGHT
BEGIN:STANDARD
DTSTART:20251102T020000Z
TZOFFSETFROM:-0400
TZOFFSETTO:-0500
END:STANDARD
BEGIN:DAYLIGHT
DTSTART:20260308T020000Z
TZOFFSETFROM:-0500
TZOFFSETTO:-0400
END:DAYLIGHT
END:VTIMEZONE
BEGIN:VTIMEZONE
TZID:UTC
BEGIN:STANDARD
DTSTART:20250725T122303Z
TZOFFSETFROM:+0000
TZOFFSETTO:+0000
END:STANDARD
END:VTIMEZONE
BEGIN:VEVENT
UID:134-32
DTSTAMP:20260421T122303Z
SUMMARY:Robotics
LOCATION:Jonesville District Library 310 Church St.  Jonesville MI 49250
ORGANIZER;CN=Laura Orlowski:MAILTO:info@jonesvilledistrictlibrary.org
DTSTART;TZID=America/Detroit:20251004T100000
DTEND;TZID=America/Detroit:20251004T140000
X-ALT-DESC;FMTTYPE=TEXT/HTML:All Ages and Abilities are welcome to join us 
 for a Saturday of Robotics &amp;amp\; STEM activities. We will have our LEGO R
 obotics\, NanoBots\, Robot Mouse\, and Botley Robots available for shared 
 play.  We will also have some STEM activities such as Domino Challenge an
 d Marble Run available. Note: children under 8 years of age&amp;hellip\;
CATEGORIES:General
URL;VALUE=URI:https://jonesvilledistrictlibrary.org/mc-events/robotics/
METHOD:PUBLISH
END:VEVENT
END:VCALENDAR